BEGIN:VCALENDAR
VERSION:2.0
PRODID:-//Kaufman County GOP Club - ECPv6.15.20//NONSGML v1.0//EN
CALSCALE:GREGORIAN
METHOD:PUBLISH
X-ORIGINAL-URL:https://kcgopclub.com
X-WR-CALDESC:Events for Kaufman County GOP Club
REFRESH-INTERVAL;VALUE=DURATION:PT1H
X-Robots-Tag:noindex
X-PUBLISHED-TTL:PT1H
BEGIN:VTIMEZONE
TZID:America/North_Dakota/Center
BEGIN:DAYLIGHT
TZOFFSETFROM:-0600
TZOFFSETTO:-0500
TZNAME:CDT
DTSTART:20200308T080000
END:DAYLIGHT
BEGIN:STANDARD
TZOFFSETFROM:-0500
TZOFFSETTO:-0600
TZNAME:CST
DTSTART:20201101T070000
END:STANDARD
BEGIN:DAYLIGHT
TZOFFSETFROM:-0600
TZOFFSETTO:-0500
TZNAME:CDT
DTSTART:20210314T080000
END:DAYLIGHT
BEGIN:STANDARD
TZOFFSETFROM:-0500
TZOFFSETTO:-0600
TZNAME:CST
DTSTART:20211107T070000
END:STANDARD
BEGIN:DAYLIGHT
TZOFFSETFROM:-0600
TZOFFSETTO:-0500
TZNAME:CDT
DTSTART:20220313T080000
END:DAYLIGHT
BEGIN:STANDARD
TZOFFSETFROM:-0500
TZOFFSETTO:-0600
TZNAME:CST
DTSTART:20221106T070000
END:STANDARD
BEGIN:DAYLIGHT
TZOFFSETFROM:-0600
TZOFFSETTO:-0500
TZNAME:CDT
DTSTART:20230312T080000
END:DAYLIGHT
BEGIN:STANDARD
TZOFFSETFROM:-0500
TZOFFSETTO:-0600
TZNAME:CST
DTSTART:20231105T070000
END:STANDARD
BEGIN:DAYLIGHT
TZOFFSETFROM:-0600
TZOFFSETTO:-0500
TZNAME:CDT
DTSTART:20240310T080000
END:DAYLIGHT
BEGIN:STANDARD
TZOFFSETFROM:-0500
TZOFFSETTO:-0600
TZNAME:CST
DTSTART:20241103T070000
END:STANDARD
END:VTIMEZONE
BEGIN:VTIMEZONE
TZID:UTC
BEGIN:STANDARD
TZOFFSETFROM:+0000
TZOFFSETTO:+0000
TZNAME:UTC
DTSTART:20200101T000000
END:STANDARD
END:VTIMEZONE
BEGIN:VTIMEZONE
TZID:America/Chicago
BEGIN:DAYLIGHT
TZOFFSETFROM:-0600
TZOFFSETTO:-0500
TZNAME:CDT
DTSTART:20200308T080000
END:DAYLIGHT
BEGIN:STANDARD
TZOFFSETFROM:-0500
TZOFFSETTO:-0600
TZNAME:CST
DTSTART:20201101T070000
END:STANDARD
BEGIN:DAYLIGHT
TZOFFSETFROM:-0600
TZOFFSETTO:-0500
TZNAME:CDT
DTSTART:20210314T080000
END:DAYLIGHT
BEGIN:STANDARD
TZOFFSETFROM:-0500
TZOFFSETTO:-0600
TZNAME:CST
DTSTART:20211107T070000
END:STANDARD
BEGIN:DAYLIGHT
TZOFFSETFROM:-0600
TZOFFSETTO:-0500
TZNAME:CDT
DTSTART:20220313T080000
END:DAYLIGHT
BEGIN:STANDARD
TZOFFSETFROM:-0500
TZOFFSETTO:-0600
TZNAME:CST
DTSTART:20221106T070000
END:STANDARD
END:VTIMEZONE
BEGIN:VEVENT
DTSTART;TZID=America/North_Dakota/Center:20230220T190000
DTEND;TZID=America/North_Dakota/Center:20230220T203000
DTSTAMP:20260423T122743
CREATED:20230116T222049Z
LAST-MODIFIED:20230322T142514Z
UID:457-1676919600-1676925000@kcgopclub.com
SUMMARY:Guest Speaker: Christin Bentley\, SREC SD1
DESCRIPTION:Guest Speaker: Christin Bentley\, SREC SD1 \n\nChair of the Legislative Priority to stop sexualizing kids\n\n\n\n\nCome early if you want to order a meal.\nNo membership or $ required to attend.\nAll Conservatives welcome.\nCome early if you’d like to order a meal.\nNo membership or $$ required to attend.
URL:https://kcgopclub.com/event/guest-speaker-christin-bentley-srec-sd1/
LOCATION:Alfredo’s Steakhouse\, 111 E US Hwy 80\, Forney\, TX\, 75126\, United States
CATEGORIES:Monthly Meeting
ATTACH;FMTTYPE=image/jpeg:https://kcgopclub.com/wp-content/uploads/2023/01/IMG_0565.jpeg
ORGANIZER;CN="Kaufman County GOP Club":MAILTO:kaufmancountygopclub@zohomail.com
END:VEVENT
BEGIN:VEVENT
DTSTART;TZID=America/North_Dakota/Center:20230116T190000
DTEND;TZID=America/North_Dakota/Center:20230116T203000
DTSTAMP:20260423T122743
CREATED:20221210T224441Z
LAST-MODIFIED:20230110T184628Z
UID:447-1673895600-1673901000@kcgopclub.com
SUMMARY:Guest Speaker:  Senator Bob Hall
DESCRIPTION:Guest speaker: Senator Bob Hall \nhttps://senate.texas.gov/member.php?d=2 \nCome early if you want to order a meal. \nNo membership or $ required to attend. \nAll Conservatives welcome. \nCome early if you’d like to order a meal. \nNo membership or $$ required to attend.
URL:https://kcgopclub.com/event/guest-speaker-tentatively-senator-bob-hall/
LOCATION:Alfredo’s Steakhouse\, 111 E US Hwy 80\, Forney\, TX\, 75126\, United States
CATEGORIES:Monthly Meeting
ORGANIZER;CN="Kaufman County GOP Club":MAILTO:kaufmancountygopclub@zohomail.com
END:VEVENT
BEGIN:VEVENT
DTSTART;TZID=America/North_Dakota/Center:20221121T190000
DTEND;TZID=America/North_Dakota/Center:20221121T203000
DTSTAMP:20260423T122743
CREATED:20221103T063856Z
LAST-MODIFIED:20221107T101726Z
UID:432-1669057200-1669062600@kcgopclub.com
SUMMARY:Guest speaker: Kimberly Christensen w/ Americans for Prosperity
DESCRIPTION:Guest speaker: Kimberly Christensen w/ Americans for Prosperity \nHome \n \nCome early if you want to order a meal. \nNo membership or $ required to attend. \nAll Conservatives welcome. \nCome early if you’d like to order a meal. \nNo membership or $$ required to attend.
URL:https://kcgopclub.com/event/kcgop-club-monthly-meeting-7/
LOCATION:Alfredo’s Steakhouse\, 111 E US Hwy 80\, Forney\, TX\, 75126\, United States
CATEGORIES:Monthly Meeting
ORGANIZER;CN="Kaufman County GOP Club":MAILTO:kaufmancountygopclub@zohomail.com
END:VEVENT
BEGIN:VEVENT
DTSTART;TZID=America/North_Dakota/Center:20221017T190000
DTEND;TZID=America/North_Dakota/Center:20221017T203000
DTSTAMP:20260423T122743
CREATED:20220921T011455Z
LAST-MODIFIED:20221103T072026Z
UID:422-1666033200-1666038600@kcgopclub.com
SUMMARY:Guest Speaker: Tracy Marshall - Transparancy USA
DESCRIPTION:Guest Speaker: Tracy Marshall w/ Transparency USA \nhttps://www.transparencyusa.org/ \n  \n 
URL:https://kcgopclub.com/event/guest-speaker-tracy-marshall-transparancy-usa/
LOCATION:Alfredo’s Steakhouse\, 111 E US Hwy 80\, Forney\, TX\, 75126\, United States
CATEGORIES:Monthly Meeting
ORGANIZER;CN="Kaufman County GOP Club":MAILTO:kaufmancountygopclub@zohomail.com
END:VEVENT
BEGIN:VEVENT
DTSTART;TZID=America/North_Dakota/Center:20220919T190000
DTEND;TZID=America/North_Dakota/Center:20220919T203000
DTSTAMP:20260423T122743
CREATED:20220816T190851Z
LAST-MODIFIED:20221017T222025Z
UID:406-1663614000-1663619400@kcgopclub.com
SUMMARY:Guest speaker: Robert Montonya (Texas Scorecard)
DESCRIPTION:Guest speaker: Robert Montonya\, an investigative reporter for Texas Scorecard.\n\nHere are some articles he has published recently:\nhttps://texasscorecard.com/author/rmontoya/
URL:https://kcgopclub.com/event/kaufman-county-gop-club-meeting-speaker-tba/
LOCATION:Alfredo’s Steakhouse\, 111 E US Hwy 80\, Forney\, TX\, 75126\, United States
CATEGORIES:Monthly Meeting
ORGANIZER;CN="Kaufman County GOP Club":MAILTO:kaufmancountygopclub@zohomail.com
END:VEVENT
BEGIN:VEVENT
DTSTART;TZID=America/North_Dakota/Center:20220815T190000
DTEND;TZID=America/North_Dakota/Center:20220815T203000
DTSTAMP:20260423T122743
CREATED:20220726T174252Z
LAST-MODIFIED:20220816T191527Z
UID:395-1660590000-1660595400@kcgopclub.com
SUMMARY:KCGOP Club - Rebekah Warwick w/ Heritage Action
DESCRIPTION:Guest Speaker: \nRebekah Warwick w/ Heritage Action \nhttps://heritageaction.com \nCome early if you plan to eat. \n 
URL:https://kcgopclub.com/event/kcgop-club-monthly-meeting-6/
LOCATION:Alfredo’s Steakhouse\, 111 E US Hwy 80\, Forney\, TX\, 75126\, United States
CATEGORIES:Monthly Meeting
ORGANIZER;CN="Kaufman County GOP Club":MAILTO:kaufmancountygopclub@zohomail.com
END:VEVENT
BEGIN:VEVENT
DTSTART;TZID=America/North_Dakota/Center:20220718T190000
DTEND;TZID=America/North_Dakota/Center:20220718T203000
DTSTAMP:20260423T122743
CREATED:20220207T210605Z
LAST-MODIFIED:20220726T174434Z
UID:339-1658170800-1658176200@kcgopclub.com
SUMMARY:KCGOP Club - monthly meeting
DESCRIPTION:Guest Speaker: Edna Cecilia Sullivan (Rockwall Hispanic Club) \nCome early if you plan to eat.
URL:https://kcgopclub.com/event/kcgop-club-monthly-meeting-5/
LOCATION:Alfredo’s Steakhouse\, 111 E US Hwy 80\, Forney\, TX\, 75126\, United States
CATEGORIES:Monthly Meeting
ORGANIZER;CN="Kaufman County GOP Club":MAILTO:kaufmancountygopclub@zohomail.com
END:VEVENT
BEGIN:VEVENT
DTSTART;TZID=America/North_Dakota/Center:20220628T190000
DTEND;TZID=America/North_Dakota/Center:20220628T203000
DTSTAMP:20260423T122743
CREATED:20220207T210126Z
LAST-MODIFIED:20220612T165420Z
UID:337-1656442800-1656448200@kcgopclub.com
SUMMARY:NEW DATE - Guest Speaker: Founder of Christians Engaged - Bunni Pounds
DESCRIPTION:NEW DATE – Guest Speaker: Bunni Pounds \nFounder of Christians Engaged\, Bunni Pounds will be in attendance as the guest speaker. \nLover of Jesus\, Motivational Public Speaker\, Former Congressional Candidate\, Political Consultant\, Preacher of the Gospel. \nFull bio: https://christiansengaged.org/s/Bunni-Pounds-Bio-Updated-02-04-2022.pdf \n  \n  \nCome early if you plan to eat.
URL:https://kcgopclub.com/event/kcgop-club-monthly-meeting-4/
LOCATION:Alfredo’s Steakhouse\, 111 E US Hwy 80\, Forney\, TX\, 75126\, United States
CATEGORIES:Monthly Meeting
ATTACH;FMTTYPE=image/jpeg:https://kcgopclub.com/wp-content/uploads/2022/02/7066D797-EADA-4337-867D-A6A17F40CA87.jpeg
ORGANIZER;CN="Kaufman County GOP Club":MAILTO:kaufmancountygopclub@zohomail.com
END:VEVENT
BEGIN:VEVENT
DTSTART;TZID=America/North_Dakota/Center:20220517T190000
DTEND;TZID=America/North_Dakota/Center:20220517T203000
DTSTAMP:20260423T122743
CREATED:20220207T205841Z
LAST-MODIFIED:20220330T231703Z
UID:335-1652814000-1652819400@kcgopclub.com
SUMMARY:Guest Speaker: Commissioner Wayne Christian
DESCRIPTION:Guest Speaker: Commissioner Wayne Christian – Texas Railroad commissioner. A statewide candidate on the run-off ballot. \nCome early if you plan to eat.
URL:https://kcgopclub.com/event/kcgop-club-monthly-meeting-3/
LOCATION:Alfredo’s Steakhouse\, 111 E US Hwy 80\, Forney\, TX\, 75126\, United States
CATEGORIES:Monthly Meeting
ORGANIZER;CN="Kaufman County GOP Club":MAILTO:kaufmancountygopclub@zohomail.com
END:VEVENT
BEGIN:VEVENT
DTSTART;TZID=America/North_Dakota/Center:20220419T190000
DTEND;TZID=America/North_Dakota/Center:20220419T203000
DTSTAMP:20260423T122743
CREATED:20220207T205607Z
LAST-MODIFIED:20220330T222042Z
UID:333-1650394800-1650400200@kcgopclub.com
SUMMARY:Guest Speaker: Carol Haynes on Critical Race Theory
DESCRIPTION:Guest Speaker: Carol Haynes discussing CRT (Critical Race Theory) \nAn important opportunity to learn about CRT\, whether you are a concerned citizen\, or have children or grandchildren. \nCome early if you plan to eat.
URL:https://kcgopclub.com/event/kcgop-club-monthly-meeting-2/
LOCATION:Alfredo’s Steakhouse\, 111 E US Hwy 80\, Forney\, TX\, 75126\, United States
CATEGORIES:Monthly Meeting
ORGANIZER;CN="Kaufman County GOP Club":MAILTO:kaufmancountygopclub@zohomail.com
END:VEVENT
BEGIN:VEVENT
DTSTART;VALUE=DATE:20220326
DTEND;VALUE=DATE:20220327
DTSTAMP:20260423T122743
CREATED:20220222T050733Z
LAST-MODIFIED:20220222T050859Z
UID:365-1648252800-1648339199@kcgopclub.com
SUMMARY:Kaufman County Republican Party Convention
DESCRIPTION:Kaufman County Republican Party Convention: March 26th @ 9am\, 100 W. Mulberry\, Kaufman Tx 75142
URL:https://kcgopclub.com/event/kaufman-county-republican-party-convention/
LOCATION:Kaufman County Courthouse\, 100 W Mulberry\, Kaufman\, TX\, 75142\, United States
CATEGORIES:Kaufman County Republican Party
END:VEVENT
BEGIN:VEVENT
DTSTART;TZID=America/North_Dakota/Center:20220315T193000
DTEND;TZID=America/North_Dakota/Center:20220315T203000
DTSTAMP:20260423T122743
CREATED:20220207T205103Z
LAST-MODIFIED:20220221T215035Z
UID:331-1647372600-1647376200@kcgopclub.com
SUMMARY:Kaufman County Precinct Convention
DESCRIPTION:Kaufman County Precinct Convention. \nAll NEWLY Elected Precinct Chairs need to be in attendance!
URL:https://kcgopclub.com/event/kcgop-club-monthly-meeting/
LOCATION:Kaufman Civic Center\, 607 E Fair St\, Kaufman\, TX\, 75142\, United States
CATEGORIES:Monthly Meeting
END:VEVENT
BEGIN:VEVENT
DTSTART;TZID=America/North_Dakota/Center:20220218T183000
DTEND;TZID=America/North_Dakota/Center:20220218T213000
DTSTAMP:20260423T122743
CREATED:20211217T022227Z
LAST-MODIFIED:20220120T100301Z
UID:268-1645209000-1645219800@kcgopclub.com
SUMMARY:State Candidate Speakers
DESCRIPTION:Listen to candidates for state wide office\, to help you better understand what they stand for\, and why they should be elected for office.\nWhen: February 18th\, 2021 (Starts @ 6:30pm) \nLocation:Trinity Family Church 9670 Co. Rd 214\, Forney\, Tx 75126 \nBelow are confirmed\, but others TBD and will be updated. \nGubernatorial candidates:  Allen West (website)\, (Marty Reid will speak on behalf of Don Huffines) \nLt Governor candidates: (Bethany Jarrell will speak on behalf of Trayce Bradford) \nAttorney General Candidates: Hopefully Ken Paxton\, and a maybe on Louie Gohmert\, maybe Eva Guzman\, and maybe George P Bush. \nTexas Land Commisioner candidates: Dr. Tim Westley\, Weston Martinez\, and others (TBA). \nState Judges: Clint Morgan\, Scott Walker\, (Supreme Court)David Schenck\, and others TBA \n 
URL:https://kcgopclub.com/event/state-candidate-speakers/
LOCATION:Trinity Family Church\, 9670 Co Rd 214\, Forney\, TX\, 75126\, United States
CATEGORIES:Elections
ATTACH;FMTTYPE=image/jpeg:https://kcgopclub.com/wp-content/uploads/2021/12/4D06C1FE-8D41-476F-9CDA-E24A9F881944.jpeg
ORGANIZER;CN="Kaufman County GOP Club":MAILTO:kaufmancountygopclub@zohomail.com
END:VEVENT
BEGIN:VEVENT
DTSTART;TZID=America/North_Dakota/Center:20220214T070000
DTEND;TZID=America/North_Dakota/Center:20220301T190000
DTSTAMP:20260423T122743
CREATED:20220222T014522Z
LAST-MODIFIED:20220222T014721Z
UID:360-1644822000-1646161200@kcgopclub.com
SUMMARY:Early Voting for March 1 Primary
DESCRIPTION:February 14 @ 7:00 am – February 25 @ 7:00 pm CST \nFebruary (Febrero) 14 – 18 Monday‐Friday (lunes a viernes) 8 a.m. to 5 p.m.\nFebruary (Febrero) 19 Saturday (sábado) 7 a.m. to 7 p.m.\nFebruary (Febrero) 20 Sunday (domingo) 1 p.m. to 6 p.m.\nFebruary (Febrero) 21 Monday (lunes) Holiday No Voting/ Vacaciones sin votación\nFebruary (Febrero) 22‐25 Tuesday – Friday (martes y viernes) 7 a.m. to 7 p.m. \nElection Day: March 1st\, 2022
URL:https://kcgopclub.com/event/early-voting-for-march-1-primary/
LOCATION:TX
END:VEVENT
BEGIN:VEVENT
DTSTART;TZID=America/North_Dakota/Center:20220120T190000
DTEND;TZID=America/North_Dakota/Center:20220120T203000
DTSTAMP:20260423T122743
CREATED:20220102T042056Z
LAST-MODIFIED:20220123T210153Z
UID:292-1642705200-1642710600@kcgopclub.com
SUMMARY:Kaufman County Local Candidates: Speak\, Meet & Greet
DESCRIPTION:Meet & greet local candidates running for office in Kaufman County. \n \n 
URL:https://kcgopclub.com/event/kaufman-county-local-candidates-speak-meet-greet/
LOCATION:Alfredo’s Steakhouse\, 111 E US Hwy 80\, Forney\, TX\, 75126\, United States
CATEGORIES:Candidates for Public Office,Elections,Monthly Meeting
ATTACH;FMTTYPE=image/png:https://kcgopclub.com/wp-content/uploads/2022/01/1E3AF83B-6766-4596-A01F-254EDB8CE9B6.png
ORGANIZER;CN="Kaufman County GOP Club":MAILTO:kaufmancountygopclub@zohomail.com
END:VEVENT
BEGIN:VEVENT
DTSTART;TZID=America/North_Dakota/Center:20211219T180000
DTEND;TZID=America/North_Dakota/Center:20211219T203000
DTSTAMP:20260423T122743
CREATED:20211019T030854Z
LAST-MODIFIED:20230119T183405Z
UID:255-1639936800-1639945800@kcgopclub.com
SUMMARY:Guest Speaker: Don Huffines
DESCRIPTION:Guest Speaker: Don Huffines \nAs a candidate for Texas Governor\, Don Huffines is a fifth-generation Texan\, husband\, and self-made businessman.
URL:https://kcgopclub.com/event/guest-speaker-don-huffines/
LOCATION:Trinity Family Church\, 9670 Co Rd 214\, Forney\, TX\, 75126\, United States
CATEGORIES:Candidates for Public Office,Elections
ORGANIZER;CN="Kaufman County GOP Club":MAILTO:kaufmancountygopclub@zohomail.com
END:VEVENT
BEGIN:VEVENT
DTSTART;TZID=UTC:20211104T183000
DTEND;TZID=UTC:20211104T193000
DTSTAMP:20260423T122743
CREATED:20211105T034901Z
LAST-MODIFIED:20211105T034901Z
UID:266-1636050600-1636054200@kcgopclub.com
SUMMARY:Club Member business meeting
DESCRIPTION:Club business meeting. \n  \nNo speaker
URL:https://kcgopclub.com/event/club-member-business-meeting/
LOCATION:Alfredo’s Steakhouse\, 111 E US Hwy 80\, Forney\, TX\, 75126\, United States
CATEGORIES:Monthly Meeting
ORGANIZER;CN="Kaufman County GOP Club":MAILTO:kaufmancountygopclub@zohomail.com
END:VEVENT
BEGIN:VEVENT
DTSTART;TZID=UTC:20211016T103000
DTEND;TZID=UTC:20211016T140000
DTSTAMP:20260423T122743
CREATED:20210819T231013Z
LAST-MODIFIED:20211217T213116Z
UID:216-1634380200-1634392800@kcgopclub.com
SUMMARY:Family Freedom Fest
DESCRIPTION:Saturday\, October 16th 2021
URL:https://kcgopclub.com/event/family-freedom-fest/
LOCATION:Trinity Family Church\, 9670 Co Rd 214\, Forney\, TX\, 75126\, United States
ATTACH;FMTTYPE=image/jpeg:https://kcgopclub.com/wp-content/uploads/2021/08/34355726-2D96-463F-BC0D-A55F4F907433.jpeg
ORGANIZER;CN="Kaufman County GOP Club":MAILTO:kaufmancountygopclub@zohomail.com
END:VEVENT
BEGIN:VEVENT
DTSTART;TZID=UTC:20211002T200000
DTEND;TZID=UTC:20211002T200000
DTSTAMP:20260423T122743
CREATED:20210926T172206Z
LAST-MODIFIED:20210926T172206Z
UID:240-1633204800-1633204800@kcgopclub.com
SUMMARY:KC Republican Women - BUNCO NIGHT
DESCRIPTION:
URL:https://kcgopclub.com/event/kc-republican-women-bunco-night/
LOCATION:Rusted Rail Golf Club\, 1602 U.S. 175\, Crandall\, TX\, 75114\, United States
END:VEVENT
BEGIN:VEVENT
DTSTART;TZID=UTC:20210916T190000
DTEND;TZID=UTC:20210916T203000
DTSTAMP:20260423T122743
CREATED:20210812T081220Z
LAST-MODIFIED:20210812T081220Z
UID:209-1631818800-1631824200@kcgopclub.com
SUMMARY:Guest Speaker: Texas GOP Chairman Matt Rinaldi
DESCRIPTION:Guest Speaker: Texas GOP Chairman Matt Rinaldi \nAbout Chairman Matt Rinaldi
URL:https://kcgopclub.com/event/guest-speaker-texas-gop-chairman-matt-rinaldi/
LOCATION:Alfredo’s Steakhouse\, 111 E US Hwy 80\, Forney\, TX\, 75126\, United States
CATEGORIES:Monthly Meeting
ORGANIZER;CN="Kaufman County GOP Club":MAILTO:kaufmancountygopclub@zohomail.com
END:VEVENT
BEGIN:VEVENT
DTSTART;TZID=UTC:20210819T190000
DTEND;TZID=UTC:20210819T203000
DTSTAMP:20260423T122743
CREATED:20210725T014915Z
LAST-MODIFIED:20210725T014915Z
UID:207-1629399600-1629405000@kcgopclub.com
SUMMARY:Texas Eagle Forum: Cindy Castilla
DESCRIPTION:Guest Speaker: Cindy Castilla (President – Texas Eagle Forum) \nTexas Eagle Forum (link) \nA little about Texas Eagle Forum: \nTexas Eagle Forum is its own organization with a mission to educate\, motivate and activate conservative and pro-family men and women here in Texas in the process of self-government and public policy-making so that America will continue to be a land of opportunity and liberty. \nTexas Eagle Forum is rooted and grounded in biblical principles and values as well as protecting the pillars of limited government and liberty in our constitutions both within our nation and our state. \n 
URL:https://kcgopclub.com/event/texas-eagle-forum-cindy-castilla/
LOCATION:Alfredo’s Steakhouse\, 111 E US Hwy 80\, Forney\, TX\, 75126\, United States
CATEGORIES:Monthly Meeting
ATTACH;FMTTYPE=image/jpeg:https://kcgopclub.com/wp-content/uploads/2021/07/EC0FA7B8-6F0C-4EEE-9190-A86C656C6CC8.jpeg
ORGANIZER;CN="Kaufman County GOP Club":MAILTO:kaufmancountygopclub@zohomail.com
END:VEVENT
BEGIN:VEVENT
DTSTART;TZID=UTC:20210715T190000
DTEND;TZID=UTC:20210715T203000
DTSTAMP:20260423T122743
CREATED:20210702T231437Z
LAST-MODIFIED:20210702T231437Z
UID:192-1626375600-1626381000@kcgopclub.com
SUMMARY:“America\, Can We Talk?” - Debbie Georgatos
DESCRIPTION:Guest Speaker:\nDebbie Georgatos\n“America\, Can We Talk?”. \nWebsite:\nhttps://www.americacanwetalk.org \nFacebook:\nhttps://m.facebook.com/AmericaCanWeTalk \nYouTube:\nhttps://youtube.com/c/AmericaCanWeTalk \nApple Podcasts:\nhttps://podcasts.apple.com/us/podcast/america-can-we-talk-w-debbie-georgatos/id1112250580?uo=4&mt=2&app=itunes
URL:https://kcgopclub.com/event/america-can-we-talk-debbie-georgatos/
LOCATION:Alfredo’s Steakhouse\, 111 E US Hwy 80\, Forney\, TX\, 75126\, United States
CATEGORIES:Monthly Meeting
ATTACH;FMTTYPE=image/png:https://kcgopclub.com/wp-content/uploads/2021/07/88496FA4-0028-48AD-A178-D69192D20046.png
ORGANIZER;CN="Kaufman County GOP Club":MAILTO:kaufmancountygopclub@zohomail.com
END:VEVENT
BEGIN:VEVENT
DTSTART;TZID=UTC:20210619T173000
DTEND;TZID=UTC:20210619T193000
DTSTAMP:20260423T122743
CREATED:20210603T171247Z
LAST-MODIFIED:20210603T171412Z
UID:176-1624123800-1624131000@kcgopclub.com
SUMMARY:1st Annual William Madison McDonald Vision Award event.
DESCRIPTION:1st Annual William Madison McDonald Vision Award event.\n\nGuest Speaker: Lt. Col. Allen West\, our Texas State Chairman.\n\nWhen: June 19th\, 2021\n\nWhere: Rusted Rail Golf Club\n1602 U.S. 175\, Crandall\, Tx 75114\n\nBuy tickets:\nPURCHASE TICKETS HERE
URL:https://kcgopclub.com/event/1st-annual-william-madison-mcdonald-vision-award-event/
LOCATION:Rusted Rail Golf Club\, 1602 U.S. 175\, Crandall\, TX\, 75114\, United States
CATEGORIES:Kaufman County Republican Party
ATTACH;FMTTYPE=image/jpeg:https://kcgopclub.com/wp-content/uploads/2021/04/9AE18D29-AC57-4D87-9BFD-EA04F7D9BF8D.jpeg
END:VEVENT
BEGIN:VEVENT
DTSTART;TZID=UTC:20210617T190000
DTEND;TZID=UTC:20210617T203000
DTSTAMP:20260423T122743
CREATED:20210603T165951Z
LAST-MODIFIED:20210603T165951Z
UID:171-1623956400-1623961800@kcgopclub.com
SUMMARY:Kaufman County GOP Club Meeting – June 2021
DESCRIPTION:Guest Speaker – Troy Jackson\, Ph.D. \nNorth Texas Regional Director – Texas GOP (link) \nProud American | Father | Biblical Constitutionalist |Conservative Political Activist| Author | Pastor (link) \n\nDirectly manages\, coaches\, and trains a team of field organizers and Patriot Advocates (volunteers) in the designated region.\nOrganizes at the “grassroots” level\, building political leads and early Neighborhood Team prospects.\nImplements and executes a robust engagement plan and data-driven field plan encompassing voter contact\, volunteer recruitment\, grassroots development\, and local candidate recruitment\, organizes events for strategic purposes.\nIn cooperation with the Data and Political Director\, utilizes rigorous standards for data collection and use in the Data Center.\nPromotes leadership at every level of the campaign\, with an eye towards building sustainable and permanent grassroots activism.\nHelps create a professional staff culture that is upbeat and empowering\, with a mind towards greater inclusion\, a customer-service attitude\, and a willingness to solve problems creatively.\nGrows our network of supporters and volunteers through various tactics\, including 1:1 meetings\, phone calls\, emails\, teams\, and texting.\nDevelops and maintains strong\, trusting relationships with local Party leaders and activist groups.\nCoaches\, trains\, and mentors Regional Field Organizers and new Regional Field Directors on effective staff management\, effective campaign strategies including\, but not limited to\, recruitment\, door-to-door canvassing\, and other necessary field tactics.
URL:https://kcgopclub.com/event/kaufman-county-gop-club-meeting-june-2021/
LOCATION:Alfredo’s Steakhouse\, 111 E US Hwy 80\, Forney\, TX\, 75126\, United States
CATEGORIES:Monthly Meeting
ATTACH;FMTTYPE=image/jpeg:https://kcgopclub.com/wp-content/uploads/2021/06/E7E8FF65-4811-4F07-A5C9-BD4CF1DF0A93_1_105_c.jpeg
ORGANIZER;CN="Kaufman County GOP Club":MAILTO:kaufmancountygopclub@zohomail.com
END:VEVENT
BEGIN:VEVENT
DTSTART;TZID=America/Chicago:20210520T190000
DTEND;TZID=America/Chicago:20210520T203000
DTSTAMP:20260423T122743
CREATED:20210327T064849Z
LAST-MODIFIED:20210328T210913Z
UID:81-1621537200-1621542600@kcgopclub.com
SUMMARY:Kaufman County GOP Club Meeting - May
DESCRIPTION:Scheduled Speaker: Loren Spivack (Author/Speaker) \nWebsite: www.fmwarrior.com \nCome early\, if you plan to eat Dinner.
URL:https://kcgopclub.com/event/kaufman-county-gop-club-meeting-may-20th/
LOCATION:Alfredo’s Steakhouse\, 111 E US Hwy 80\, Forney\, TX\, 75126\, United States
CATEGORIES:Monthly Meeting
ATTACH;FMTTYPE=image/jpeg:https://kcgopclub.com/wp-content/uploads/2021/03/Screenshot_164.jpg
ORGANIZER;CN="Kaufman County GOP Club":MAILTO:kaufmancountygopclub@zohomail.com
END:VEVENT
BEGIN:VEVENT
DTSTART;TZID=UTC:20210415T190000
DTEND;TZID=UTC:20210415T210000
DTSTAMP:20260423T122743
CREATED:20210325T184044Z
LAST-MODIFIED:20210328T205848Z
UID:46-1618513200-1618520400@kcgopclub.com
SUMMARY:Kaufman County GOP Club Meeting - April
DESCRIPTION:Guest Speaker: \nSamantha Horwitz – A Secret Service Agent’s story of tragedy and triumph after 9/11. \nHere’s a link to her website: www.samanthahorwitz.com/
URL:https://kcgopclub.com/event/kaufman-county-gop-club-meeting-april/
LOCATION:Alfredo’s Steakhouse\, 111 E US Hwy 80\, Forney\, TX\, 75126\, United States
CATEGORIES:Monthly Meeting
ATTACH;FMTTYPE=image/jpeg:https://kcgopclub.com/wp-content/uploads/2021/03/Screenshot_164.jpg
ORGANIZER;CN="Kaufman County GOP Club":MAILTO:kaufmancountygopclub@zohomail.com
END:VEVENT
END:VCALENDAR